BEGIN:VCALENDAR
VERSION:2.0
PRODID:-//Sanborn PTO - ECPv6.15.15//NONSGML v1.0//EN
CALSCALE:GREGORIAN
METHOD:PUBLISH
X-WR-CALNAME:Sanborn PTO
X-ORIGINAL-URL:https://sanbornpto.com
X-WR-CALDESC:Events for Sanborn PTO
REFRESH-INTERVAL;VALUE=DURATION:PT1H
X-Robots-Tag:noindex
X-PUBLISHED-TTL:PT1H
BEGIN:VTIMEZONE
TZID:America/New_York
BEGIN:DAYLIGHT
TZOFFSETFROM:-0500
TZOFFSETTO:-0400
TZNAME:EDT
DTSTART:20240310T070000
END:DAYLIGHT
BEGIN:STANDARD
TZOFFSETFROM:-0400
TZOFFSETTO:-0500
TZNAME:EST
DTSTART:20241103T060000
END:STANDARD
BEGIN:DAYLIGHT
TZOFFSETFROM:-0500
TZOFFSETTO:-0400
TZNAME:EDT
DTSTART:20250309T070000
END:DAYLIGHT
BEGIN:STANDARD
TZOFFSETFROM:-0400
TZOFFSETTO:-0500
TZNAME:EST
DTSTART:20251102T060000
END:STANDARD
BEGIN:DAYLIGHT
TZOFFSETFROM:-0500
TZOFFSETTO:-0400
TZNAME:EDT
DTSTART:20260308T070000
END:DAYLIGHT
BEGIN:STANDARD
TZOFFSETFROM:-0400
TZOFFSETTO:-0500
TZNAME:EST
DTSTART:20261101T060000
END:STANDARD
END:VTIMEZONE
BEGIN:VEVENT
DTSTART;VALUE=DATE:20250612
DTEND;VALUE=DATE:20250613
DTSTAMP:20260420T050856
CREATED:20240712T180925Z
LAST-MODIFIED:20250306T184905Z
UID:14575-1749686400-1749772799@sanbornpto.com
SUMMARY:Last day of school (no snow days)
DESCRIPTION:
URL:https://sanbornpto.com/event/last-day-of-school-no-snow-days/
END:VEVENT
BEGIN:VEVENT
DTSTART;TZID=America/New_York:20250612T100000
DTEND;TZID=America/New_York:20250612T110000
DTSTAMP:20260420T050856
CREATED:20250408T134922Z
LAST-MODIFIED:20250612T143725Z
UID:26227-1749722400-1749726000@sanbornpto.com
SUMMARY:5th Grade Celebration of Learning
DESCRIPTION:
URL:https://sanbornpto.com/event/5th-grade-celebration-of-learning-2/
LOCATION:Sanborn School\, 90 Lovejoy Rd\, Andover\, MA\, United States
END:VEVENT
BEGIN:VEVENT
DTSTART;TZID=America/New_York:20250612T120000
DTEND;TZID=America/New_York:20250612T150000
DTSTAMP:20260420T050856
CREATED:20250408T134922Z
LAST-MODIFIED:20250612T183404Z
UID:26229-1749729600-1749740400@sanbornpto.com
SUMMARY:5th Grade Pool Party
DESCRIPTION:
URL:https://sanbornpto.com/event/5th-grade-pool-party/
LOCATION:Indian Ridge Country Club\, 72 Lovejoy Rd\, Andover\, MA\, United States
END:VEVENT
BEGIN:VEVENT
DTSTART;TZID=America/New_York:20250612T121500
DTEND;TZID=America/New_York:20250612T124500
DTSTAMP:20260420T050856
CREATED:20240712T185956Z
LAST-MODIFIED:20250306T184905Z
UID:14581-1749730500-1749732300@sanbornpto.com
SUMMARY:Early dismissal
DESCRIPTION:
URL:https://sanbornpto.com/event/early-dismissal/
END:VEVENT
END:VCALENDAR