BEGIN:VCALENDAR
VERSION:2.0
PRODID:-//Sanborn PTO - ECPv6.15.15//NONSGML v1.0//EN
CALSCALE:GREGORIAN
METHOD:PUBLISH
X-WR-CALNAME:Sanborn PTO
X-ORIGINAL-URL:https://sanbornpto.com
X-WR-CALDESC:Events for Sanborn PTO
REFRESH-INTERVAL;VALUE=DURATION:PT1H
X-Robots-Tag:noindex
X-PUBLISHED-TTL:PT1H
BEGIN:VTIMEZONE
TZID:America/New_York
BEGIN:DAYLIGHT
TZOFFSETFROM:-0500
TZOFFSETTO:-0400
TZNAME:EDT
DTSTART:20240310T070000
END:DAYLIGHT
BEGIN:STANDARD
TZOFFSETFROM:-0400
TZOFFSETTO:-0500
TZNAME:EST
DTSTART:20241103T060000
END:STANDARD
BEGIN:DAYLIGHT
TZOFFSETFROM:-0500
TZOFFSETTO:-0400
TZNAME:EDT
DTSTART:20250309T070000
END:DAYLIGHT
BEGIN:STANDARD
TZOFFSETFROM:-0400
TZOFFSETTO:-0500
TZNAME:EST
DTSTART:20251102T060000
END:STANDARD
BEGIN:DAYLIGHT
TZOFFSETFROM:-0500
TZOFFSETTO:-0400
TZNAME:EDT
DTSTART:20260308T070000
END:DAYLIGHT
BEGIN:STANDARD
TZOFFSETFROM:-0400
TZOFFSETTO:-0500
TZNAME:EST
DTSTART:20261101T060000
END:STANDARD
END:VTIMEZONE
BEGIN:VEVENT
DTSTART;TZID=America/New_York:20251029T080000
DTEND;TZID=America/New_York:20251029T084500
DTSTAMP:20260423T105856
CREATED:20250916T153508Z
LAST-MODIFIED:20251029T122528Z
UID:33613-1761724800-1761727500@sanbornpto.com
SUMMARY:Lego League (Grades K-2)
DESCRIPTION:
URL:https://sanbornpto.com/event/lego-league-5/
END:VEVENT
BEGIN:VEVENT
DTSTART;TZID=America/New_York:20251029T080000
DTEND;TZID=America/New_York:20251029T084500
DTSTAMP:20260423T105856
CREATED:20250916T153508Z
LAST-MODIFIED:20251029T122528Z
UID:33614-1761724800-1761727500@sanbornpto.com
SUMMARY:Dodgeball (2nd & 3rd Grades)
DESCRIPTION:
URL:https://sanbornpto.com/event/dodgeball-2nd-3rd-grades-5/
END:VEVENT
BEGIN:VEVENT
DTSTART;TZID=America/New_York:20251028T154500
DTEND;TZID=America/New_York:20251028T163000
DTSTAMP:20260423T105856
CREATED:20250916T161953Z
LAST-MODIFIED:20251028T202144Z
UID:33657-1761666300-1761669000@sanbornpto.com
SUMMARY:Crafty Creations
DESCRIPTION:
URL:https://sanbornpto.com/event/crafty-creations-5/
END:VEVENT
BEGIN:VEVENT
DTSTART;TZID=America/New_York:20251028T080000
DTEND;TZID=America/New_York:20251028T084500
DTSTAMP:20260423T105856
CREATED:20250916T153508Z
LAST-MODIFIED:20251028T120624Z
UID:33611-1761638400-1761641100@sanbornpto.com
SUMMARY:Kidcasso
DESCRIPTION:
URL:https://sanbornpto.com/event/kidcasso-9/
END:VEVENT
BEGIN:VEVENT
DTSTART;TZID=America/New_York:20251028T080000
DTEND;TZID=America/New_York:20251028T084500
DTSTAMP:20260423T105856
CREATED:20250916T153508Z
LAST-MODIFIED:20251028T120624Z
UID:33612-1761638400-1761641100@sanbornpto.com
SUMMARY:Dodgeball (Grades 4 & 5)
DESCRIPTION:
URL:https://sanbornpto.com/event/dodgeball-grades-4-5-5/
END:VEVENT
BEGIN:VEVENT
DTSTART;TZID=America/New_York:20251028T080000
DTEND;TZID=America/New_York:20251028T084500
DTSTAMP:20260423T105856
CREATED:20250916T153507Z
LAST-MODIFIED:20251028T120624Z
UID:33609-1761638400-1761641100@sanbornpto.com
SUMMARY:Top Secret Science
DESCRIPTION:
URL:https://sanbornpto.com/event/top-secret-science-5/
END:VEVENT
BEGIN:VEVENT
DTSTART;TZID=America/New_York:20251028T080000
DTEND;TZID=America/New_York:20251028T084500
DTSTAMP:20260423T105856
CREATED:20250916T153507Z
LAST-MODIFIED:20251028T120624Z
UID:33610-1761638400-1761641100@sanbornpto.com
SUMMARY:Scrapbooking
DESCRIPTION:
URL:https://sanbornpto.com/event/scrapbooking-5/
END:VEVENT
BEGIN:VEVENT
DTSTART;TZID=America/New_York:20251027T154500
DTEND;TZID=America/New_York:20251027T163000
DTSTAMP:20260423T105856
CREATED:20250916T153507Z
LAST-MODIFIED:20251027T200547Z
UID:33608-1761579900-1761582600@sanbornpto.com
SUMMARY:Magic Brush
DESCRIPTION:
URL:https://sanbornpto.com/event/magic-brush-11/
END:VEVENT
BEGIN:VEVENT
DTSTART;TZID=America/New_York:20251027T080000
DTEND;TZID=America/New_York:20251027T084500
DTSTAMP:20260423T105856
CREATED:20250917T234421Z
LAST-MODIFIED:20251027T124900Z
UID:33710-1761552000-1761554700@sanbornpto.com
SUMMARY:Wildlings (Kids Yoga)
DESCRIPTION:
URL:https://sanbornpto.com/event/wildlings-kids-yoga-4/
END:VEVENT
BEGIN:VEVENT
DTSTART;TZID=America/New_York:20251027T080000
DTEND;TZID=America/New_York:20251027T084500
DTSTAMP:20260423T105856
CREATED:20250916T153456Z
LAST-MODIFIED:20251027T124900Z
UID:33605-1761552000-1761554700@sanbornpto.com
SUMMARY:Student Council
DESCRIPTION:
URL:https://sanbornpto.com/event/student-council-13/
END:VEVENT
BEGIN:VEVENT
DTSTART;TZID=America/New_York:20251027T080000
DTEND;TZID=America/New_York:20251027T084500
DTSTAMP:20260423T105856
CREATED:20250916T153456Z
LAST-MODIFIED:20251027T124900Z
UID:33606-1761552000-1761554700@sanbornpto.com
SUMMARY:Fun with Fuse Beads
DESCRIPTION:
URL:https://sanbornpto.com/event/fun-with-fuse-beads-4/
END:VEVENT
BEGIN:VEVENT
DTSTART;TZID=America/New_York:20251027T080000
DTEND;TZID=America/New_York:20251027T084500
DTSTAMP:20260423T105856
CREATED:20250916T153456Z
LAST-MODIFIED:20251027T124900Z
UID:33607-1761552000-1761554700@sanbornpto.com
SUMMARY:Jujitsu
DESCRIPTION:
URL:https://sanbornpto.com/event/jujitsu-5/
END:VEVENT
BEGIN:VEVENT
DTSTART;TZID=America/New_York:20251027T080000
DTEND;TZID=America/New_York:20251027T084500
DTSTAMP:20260423T105856
CREATED:20250916T153455Z
LAST-MODIFIED:20250916T153624Z
UID:33604-1761552000-1761554700@sanbornpto.com
SUMMARY:(NO)Chess Academy
DESCRIPTION:
URL:https://sanbornpto.com/event/nochess-academy/
END:VEVENT
BEGIN:VEVENT
DTSTART;VALUE=DATE:20251027
DTEND;VALUE=DATE:20251028
DTSTAMP:20260423T105856
CREATED:20250916T144825Z
LAST-MODIFIED:20251027T235202Z
UID:33524-1761523200-1761609599@sanbornpto.com
SUMMARY:Picture Retake Day
DESCRIPTION:
URL:https://sanbornpto.com/event/picture-retake-day/
END:VEVENT
BEGIN:VEVENT
DTSTART;TZID=America/New_York:20251025T150000
DTEND;TZID=America/New_York:20251025T163000
DTSTAMP:20260423T105856
CREATED:20250807T190301Z
LAST-MODIFIED:20251025T195513Z
UID:32039-1761404400-1761409800@sanbornpto.com
SUMMARY:🎃 Spooky Fun Fair
DESCRIPTION:
URL:https://sanbornpto.com/event/%f0%9f%8e%83-spooky-fun-fair/
END:VEVENT
BEGIN:VEVENT
DTSTART;TZID=America/New_York:20251024T080000
DTEND;TZID=America/New_York:20251024T084500
DTSTAMP:20260423T105856
CREATED:20250916T153455Z
LAST-MODIFIED:20251024T122224Z
UID:33599-1761292800-1761295500@sanbornpto.com
SUMMARY:Cheer
DESCRIPTION:
URL:https://sanbornpto.com/event/cheer-4/
END:VEVENT
BEGIN:VEVENT
DTSTART;TZID=America/New_York:20251024T080000
DTEND;TZID=America/New_York:20251024T084500
DTSTAMP:20260423T105856
CREATED:20250916T153455Z
LAST-MODIFIED:20251024T122224Z
UID:33600-1761292800-1761295500@sanbornpto.com
SUMMARY:Meet the Classics
DESCRIPTION:
URL:https://sanbornpto.com/event/meet-the-classics-4/
END:VEVENT
BEGIN:VEVENT
DTSTART;TZID=America/New_York:20251024T080000
DTEND;TZID=America/New_York:20251024T084500
DTSTAMP:20260423T105856
CREATED:20250916T153455Z
LAST-MODIFIED:20251024T122224Z
UID:33601-1761292800-1761295500@sanbornpto.com
SUMMARY:Lego League (Grades 3-5)
DESCRIPTION:
URL:https://sanbornpto.com/event/lego-league-grades-3-5-4/
END:VEVENT
BEGIN:VEVENT
DTSTART;TZID=America/New_York:20251024T080000
DTEND;TZID=America/New_York:20251024T084500
DTSTAMP:20260423T105856
CREATED:20250916T153455Z
LAST-MODIFIED:20251024T122224Z
UID:33602-1761292800-1761295500@sanbornpto.com
SUMMARY:K-Pop Hip Hop
DESCRIPTION:
URL:https://sanbornpto.com/event/k-pop-hip-hop-4/
END:VEVENT
BEGIN:VEVENT
DTSTART;TZID=America/New_York:20251024T080000
DTEND;TZID=America/New_York:20251024T084500
DTSTAMP:20260423T105856
CREATED:20250916T153455Z
LAST-MODIFIED:20251024T122224Z
UID:33603-1761292800-1761295500@sanbornpto.com
SUMMARY:Kidcasso
DESCRIPTION:
URL:https://sanbornpto.com/event/kidcasso-8/
END:VEVENT
BEGIN:VEVENT
DTSTART;TZID=America/New_York:20251023T180000
DTEND;TZID=America/New_York:20251023T210000
DTSTAMP:20260423T105856
CREATED:20251002T154848Z
LAST-MODIFIED:20251024T010201Z
UID:34258-1761242400-1761253200@sanbornpto.com
SUMMARY:Parent Social | 🎨 Painting with a Twist 🎨
DESCRIPTION:Painting with a Twist\, located at 10 High St in N Andover\, is fun art\, not fine art. It’s a party! No creative or artistic skills are needed. Painting with a Twist will provide all necessary supplies\, including brushes\, paint and canvas. Feel free to bring your own food and wine or drink of choice and be ready to unleash your inner artist. We will be painting a lovely New England inspired fall scene. Space is limited to 16\, so please reserve your spot now.
URL:https://sanbornpto.com/event/parent-social-%f0%9f%8e%a8-painting-with-a-twist-%f0%9f%8e%a8/
LOCATION:Painting with a Twist\, 10 High St\, North Andover\, MA\, United States
END:VEVENT
BEGIN:VEVENT
DTSTART;TZID=America/New_York:20251023T080000
DTEND;TZID=America/New_York:20251023T084500
DTSTAMP:20260423T105856
CREATED:20250916T153444Z
LAST-MODIFIED:20251023T122133Z
UID:33595-1761206400-1761209100@sanbornpto.com
SUMMARY:Board Game Bonanza
DESCRIPTION:
URL:https://sanbornpto.com/event/board-game-bonanza-4/
END:VEVENT
BEGIN:VEVENT
DTSTART;TZID=America/New_York:20251023T080000
DTEND;TZID=America/New_York:20251023T084500
DTSTAMP:20260423T105856
CREATED:20250916T153444Z
LAST-MODIFIED:20251023T122133Z
UID:33596-1761206400-1761209100@sanbornpto.com
SUMMARY:Science Rocks
DESCRIPTION:
URL:https://sanbornpto.com/event/science-rocks-4/
END:VEVENT
BEGIN:VEVENT
DTSTART;TZID=America/New_York:20251023T080000
DTEND;TZID=America/New_York:20251023T084500
DTSTAMP:20260423T105856
CREATED:20250916T153444Z
LAST-MODIFIED:20251023T122133Z
UID:33597-1761206400-1761209100@sanbornpto.com
SUMMARY:Books & Bagels
DESCRIPTION:
URL:https://sanbornpto.com/event/books-bagels-4/
END:VEVENT
BEGIN:VEVENT
DTSTART;TZID=America/New_York:20251023T080000
DTEND;TZID=America/New_York:20251023T084500
DTSTAMP:20260423T105856
CREATED:20250916T153444Z
LAST-MODIFIED:20251023T122133Z
UID:33598-1761206400-1761209100@sanbornpto.com
SUMMARY:Tap Troupe
DESCRIPTION:
URL:https://sanbornpto.com/event/tap-troupe-4/
END:VEVENT
BEGIN:VEVENT
DTSTART;TZID=America/New_York:20251022T080000
DTEND;TZID=America/New_York:20251022T084500
DTSTAMP:20260423T105856
CREATED:20250916T153444Z
LAST-MODIFIED:20251022T121928Z
UID:33593-1761120000-1761122700@sanbornpto.com
SUMMARY:Dodgeball (2nd & 3rd Grades)
DESCRIPTION:
URL:https://sanbornpto.com/event/dodgeball-2nd-3rd-grades-4/
END:VEVENT
BEGIN:VEVENT
DTSTART;TZID=America/New_York:20251022T080000
DTEND;TZID=America/New_York:20251022T084500
DTSTAMP:20260423T105856
CREATED:20250916T153444Z
LAST-MODIFIED:20251022T121928Z
UID:33594-1761120000-1761122700@sanbornpto.com
SUMMARY:Lego League (Grades K-2)
DESCRIPTION:
URL:https://sanbornpto.com/event/lego-league-4/
END:VEVENT
BEGIN:VEVENT
DTSTART;TZID=America/New_York:20251021T154500
DTEND;TZID=America/New_York:20251021T163000
DTSTAMP:20260423T105856
CREATED:20250916T161931Z
LAST-MODIFIED:20251021T200407Z
UID:33656-1761061500-1761064200@sanbornpto.com
SUMMARY:Crafty Creations
DESCRIPTION:
URL:https://sanbornpto.com/event/crafty-creations-4/
END:VEVENT
BEGIN:VEVENT
DTSTART;TZID=America/New_York:20251021T080000
DTEND;TZID=America/New_York:20251021T084500
DTSTAMP:20260423T105856
CREATED:20250916T153444Z
LAST-MODIFIED:20251021T121929Z
UID:33590-1761033600-1761036300@sanbornpto.com
SUMMARY:Dodgeball (Grades 4 & 5)
DESCRIPTION:
URL:https://sanbornpto.com/event/dodgeball-grades-4-5-4/
END:VEVENT
BEGIN:VEVENT
DTSTART;TZID=America/New_York:20251021T080000
DTEND;TZID=America/New_York:20251021T084500
DTSTAMP:20260423T105856
CREATED:20250916T153444Z
LAST-MODIFIED:20251021T121929Z
UID:33591-1761033600-1761036300@sanbornpto.com
SUMMARY:Top Secret Science
DESCRIPTION:
URL:https://sanbornpto.com/event/top-secret-science-4/
END:VEVENT
END:VCALENDAR