BEGIN:VCALENDAR
VERSION:2.0
PRODID:-//Sanborn PTO - ECPv6.15.15//NONSGML v1.0//EN
CALSCALE:GREGORIAN
METHOD:PUBLISH
X-WR-CALNAME:Sanborn PTO
X-ORIGINAL-URL:https://sanbornpto.com
X-WR-CALDESC:Events for Sanborn PTO
REFRESH-INTERVAL;VALUE=DURATION:PT1H
X-Robots-Tag:noindex
X-PUBLISHED-TTL:PT1H
BEGIN:VTIMEZONE
TZID:America/New_York
BEGIN:DAYLIGHT
TZOFFSETFROM:-0500
TZOFFSETTO:-0400
TZNAME:EDT
DTSTART:20250309T070000
END:DAYLIGHT
BEGIN:STANDARD
TZOFFSETFROM:-0400
TZOFFSETTO:-0500
TZNAME:EST
DTSTART:20251102T060000
END:STANDARD
BEGIN:DAYLIGHT
TZOFFSETFROM:-0500
TZOFFSETTO:-0400
TZNAME:EDT
DTSTART:20260308T070000
END:DAYLIGHT
BEGIN:STANDARD
TZOFFSETFROM:-0400
TZOFFSETTO:-0500
TZNAME:EST
DTSTART:20261101T060000
END:STANDARD
BEGIN:DAYLIGHT
TZOFFSETFROM:-0500
TZOFFSETTO:-0400
TZNAME:EDT
DTSTART:20270314T070000
END:DAYLIGHT
BEGIN:STANDARD
TZOFFSETFROM:-0400
TZOFFSETTO:-0500
TZNAME:EST
DTSTART:20271107T060000
END:STANDARD
END:VTIMEZONE
BEGIN:VEVENT
DTSTART;VALUE=DATE:20260403
DTEND;VALUE=DATE:20260404
DTSTAMP:20260422T133617
CREATED:20251120T214218Z
LAST-MODIFIED:20251220T045032Z
UID:36053-1775174400-1775260799@sanbornpto.com
SUMMARY:👕 Sanborn Spirit Day 👕
DESCRIPTION:Wear your favorite Sanborn or Blue gear!
URL:https://sanbornpto.com/event/%f0%9f%91%95-sanborn-spirit-day-%f0%9f%91%95-5/
END:VEVENT
BEGIN:VEVENT
DTSTART;VALUE=DATE:20260331
DTEND;VALUE=DATE:20260401
DTSTAMP:20260422T133617
CREATED:20260123T223754Z
LAST-MODIFIED:20260123T223754Z
UID:40408-1774915200-1775001599@sanbornpto.com
SUMMARY:MCAS 3rd Grade ELA
DESCRIPTION:
URL:https://sanbornpto.com/event/mcas-3rd-grade-ela-2/
END:VEVENT
BEGIN:VEVENT
DTSTART;VALUE=DATE:20260330
DTEND;VALUE=DATE:20260331
DTSTAMP:20260422T133617
CREATED:20260123T223721Z
LAST-MODIFIED:20260123T223721Z
UID:40405-1774828800-1774915199@sanbornpto.com
SUMMARY:MCAS 3rd Grade ELA
DESCRIPTION:
URL:https://sanbornpto.com/event/mcas-3rd-grade-ela/
END:VEVENT
BEGIN:VEVENT
DTSTART;VALUE=DATE:20260327
DTEND;VALUE=DATE:20260328
DTSTAMP:20260422T133617
CREATED:20260210T005403Z
LAST-MODIFIED:20260210T005403Z
UID:42116-1774569600-1774655999@sanbornpto.com
SUMMARY:Sanborn Playground Gala
DESCRIPTION:
URL:https://sanbornpto.com/event/sanborn-playground-gala/
END:VEVENT
BEGIN:VEVENT
DTSTART;TZID=America/New_York:20260326T200000
DTEND;TZID=America/New_York:20260326T200000
DTSTAMP:20260422T133617
CREATED:20260318T000339Z
LAST-MODIFIED:20260318T000513Z
UID:45630-1774555200-1774555200@sanbornpto.com
SUMMARY:🧪Spring Explorations Registration Closes🎨
DESCRIPTION:Registration closes at 8pm! \nSchedule here!
URL:https://sanbornpto.com/event/%f0%9f%a7%aaspring-explorations-registration-closes%f0%9f%8e%a8/
END:VEVENT
BEGIN:VEVENT
DTSTART;TZID=America/New_York:20260325T170000
DTEND;TZID=America/New_York:20260325T183000
DTSTAMP:20260422T133617
CREATED:20260210T004952Z
LAST-MODIFIED:20260317T235653Z
UID:42109-1774458000-1774463400@sanbornpto.com
SUMMARY:📚 Learning Journey Night 📚
DESCRIPTION:
URL:https://sanbornpto.com/event/%f0%9f%93%9a-learning-journey-night-%f0%9f%93%9a/
END:VEVENT
BEGIN:VEVENT
DTSTART;VALUE=DATE:20260317
DTEND;VALUE=DATE:20260318
DTSTAMP:20260422T133617
CREATED:20251202T020310Z
LAST-MODIFIED:20251220T045032Z
UID:36484-1773705600-1773791999@sanbornpto.com
SUMMARY:🎻 All Strings Night 🎻
DESCRIPTION:
URL:https://sanbornpto.com/event/%f0%9f%8e%bb-all-strings-night-%f0%9f%8e%bb/
END:VEVENT
BEGIN:VEVENT
DTSTART;TZID=America/New_York:20260312T200000
DTEND;TZID=America/New_York:20260312T200000
DTSTAMP:20260422T133617
CREATED:20260318T000227Z
LAST-MODIFIED:20260318T000227Z
UID:45627-1773345600-1773345600@sanbornpto.com
SUMMARY:🧪Spring Explorations Registration Opens🎨
DESCRIPTION:Registration opens at 8pm! \nSchedule here
URL:https://sanbornpto.com/event/%f0%9f%a7%aaspring-explorations-registration-opens%f0%9f%8e%a8/
END:VEVENT
BEGIN:VEVENT
DTSTART;TZID=America/New_York:20260312T180000
DTEND;TZID=America/New_York:20260312T200000
DTSTAMP:20260422T133617
CREATED:20260210T005257Z
LAST-MODIFIED:20260210T005257Z
UID:42113-1773338400-1773345600@sanbornpto.com
SUMMARY:🎤 Talent Show 🎤
DESCRIPTION:
URL:https://sanbornpto.com/event/%f0%9f%8e%a4-talent-show-%f0%9f%8e%a4/
END:VEVENT
BEGIN:VEVENT
DTSTART;TZID=America/New_York:20260311T121500
DTEND;TZID=America/New_York:20260311T121500
DTSTAMP:20260422T133617
CREATED:20250807T194843Z
LAST-MODIFIED:20251220T045032Z
UID:32066-1773231300-1773231300@sanbornpto.com
SUMMARY:Early Release
DESCRIPTION:
URL:https://sanbornpto.com/event/early-release-4/
END:VEVENT
BEGIN:VEVENT
DTSTART;VALUE=DATE:20260311
DTEND;VALUE=DATE:20260312
DTSTAMP:20260422T133617
CREATED:20251202T020310Z
LAST-MODIFIED:20251220T045032Z
UID:36483-1773187200-1773273599@sanbornpto.com
SUMMARY:🎺 All Bands Night 🎺
DESCRIPTION:
URL:https://sanbornpto.com/event/%f0%9f%8e%ba-all-bands-night-%f0%9f%8e%ba/
END:VEVENT
BEGIN:VEVENT
DTSTART;TZID=America/New_York:20260310T170000
DTEND;TZID=America/New_York:20260310T193000
DTSTAMP:20260422T133617
CREATED:20260210T010333Z
LAST-MODIFIED:20260210T010333Z
UID:42119-1773162000-1773171000@sanbornpto.com
SUMMARY:🎤 Talent Show Rehearsal 🎤
DESCRIPTION:
URL:https://sanbornpto.com/event/%f0%9f%8e%a4-talent-show-rehearsal-%f0%9f%8e%a4/
END:VEVENT
BEGIN:VEVENT
DTSTART;VALUE=DATE:20260306
DTEND;VALUE=DATE:20260307
DTSTAMP:20260422T133617
CREATED:20251120T214217Z
LAST-MODIFIED:20251220T045032Z
UID:36052-1772755200-1772841599@sanbornpto.com
SUMMARY:👕 Sanborn Spirit Day 👕
DESCRIPTION:Wear your favorite Sanborn or Blue gear!
URL:https://sanbornpto.com/event/%f0%9f%91%95-sanborn-spirit-day-%f0%9f%91%95-4/
END:VEVENT
BEGIN:VEVENT
DTSTART;VALUE=DATE:20260306
DTEND;VALUE=DATE:20260307
DTSTAMP:20260422T133617
CREATED:20250807T194843Z
LAST-MODIFIED:20251220T045032Z
UID:32065-1772755200-1772841599@sanbornpto.com
SUMMARY:📖 Community Read Aloud Day
DESCRIPTION:
URL:https://sanbornpto.com/event/%f0%9f%93%96-community-read-aloud-day/
END:VEVENT
BEGIN:VEVENT
DTSTART;VALUE=DATE:20260302
DTEND;VALUE=DATE:20260307
DTSTAMP:20260422T133617
CREATED:20250807T194843Z
LAST-MODIFIED:20251220T045032Z
UID:32064-1772409600-1772841599@sanbornpto.com
SUMMARY:📕 Authors Week
DESCRIPTION:
URL:https://sanbornpto.com/event/%f0%9f%93%95-authors-week/
END:VEVENT
BEGIN:VEVENT
DTSTART;TZID=America/New_York:20260225T180000
DTEND;TZID=America/New_York:20260225T190000
DTSTAMP:20260422T133617
CREATED:20260209T190128Z
LAST-MODIFIED:20260209T190128Z
UID:42077-1772042400-1772046000@sanbornpto.com
SUMMARY:PTO Meeting
DESCRIPTION:Join us in the Library at Sanborn for a chat with APS Superintendent Dr. Parvey and Keith Taverna\, Assistant Superintendent of Finance and Administration as they sit down to talk about the Andover Public School Budget. \nBabysitting will be provided. \n*Rescheduled because of weather from 1/26
URL:https://sanbornpto.com/event/pto-meeting-11/
END:VEVENT
BEGIN:VEVENT
DTSTART;TZID=America/New_York:20260224T170000
DTEND;TZID=America/New_York:20260224T190000
DTSTAMP:20260422T133617
CREATED:20260210T004650Z
LAST-MODIFIED:20260210T004650Z
UID:42106-1771952400-1771959600@sanbornpto.com
SUMMARY:🎤 Talent Show Auditions 🎤
DESCRIPTION:
URL:https://sanbornpto.com/event/%f0%9f%8e%a4-talent-show-auditions-%f0%9f%8e%a4/
END:VEVENT
BEGIN:VEVENT
DTSTART;VALUE=DATE:20260223
DTEND;VALUE=DATE:20260224
DTSTAMP:20260422T133617
CREATED:20260210T004542Z
LAST-MODIFIED:20260210T004542Z
UID:42103-1771804800-1771891199@sanbornpto.com
SUMMARY:Playground Gala Tickets On Sale
DESCRIPTION:
URL:https://sanbornpto.com/event/playground-gala-tickets-on-sale/
END:VEVENT
BEGIN:VEVENT
DTSTART;VALUE=DATE:20260216
DTEND;VALUE=DATE:20260221
DTSTAMP:20260422T133617
CREATED:20250807T194843Z
LAST-MODIFIED:20251220T045032Z
UID:32063-1771200000-1771631999@sanbornpto.com
SUMMARY:Sanborn Closed - Presidents Day/Winter Recess
DESCRIPTION:
URL:https://sanbornpto.com/event/sanborn-closed-presidents-day-winter-recess/
END:VEVENT
BEGIN:VEVENT
DTSTART;VALUE=DATE:20260213
DTEND;VALUE=DATE:20260214
DTSTAMP:20260422T133617
CREATED:20250807T194843Z
LAST-MODIFIED:20251220T045032Z
UID:32062-1770940800-1771027199@sanbornpto.com
SUMMARY:🪩 Fun Run/Dance Day
DESCRIPTION:
URL:https://sanbornpto.com/event/%f0%9f%aa%a9-fun-run-dance-day/
END:VEVENT
BEGIN:VEVENT
DTSTART;TZID=America/New_York:20260211T183000
DTEND;TZID=America/New_York:20260211T203000
DTSTAMP:20260422T133617
CREATED:20260124T121731Z
LAST-MODIFIED:20260124T121731Z
UID:40501-1770834600-1770841800@sanbornpto.com
SUMMARY:Parent Social Treehouse Brewing Company
DESCRIPTION:Come join us for a night of connection with fellow Sanborn parents and caregivers! Let us know if you’ll make it here!
URL:https://sanbornpto.com/event/parent-social-treehouse-brewing-company/
END:VEVENT
BEGIN:VEVENT
DTSTART;VALUE=DATE:20260206
DTEND;VALUE=DATE:20260207
DTSTAMP:20260422T133617
CREATED:20251120T214217Z
LAST-MODIFIED:20251220T045032Z
UID:36051-1770336000-1770422399@sanbornpto.com
SUMMARY:👕 Sanborn Spirit Day 👕
DESCRIPTION:Wear your favorite Sanborn or Blue gear!
URL:https://sanbornpto.com/event/%f0%9f%91%95-sanborn-spirit-day-%f0%9f%91%95-3/
END:VEVENT
BEGIN:VEVENT
DTSTART;VALUE=DATE:20260202
DTEND;VALUE=DATE:20260203
DTSTAMP:20260422T133618
CREATED:20250807T194843Z
LAST-MODIFIED:20251220T045032Z
UID:32061-1769990400-1770076799@sanbornpto.com
SUMMARY:🪩 Fun Run/Dance - Kick Off
DESCRIPTION:
URL:https://sanbornpto.com/event/%f0%9f%aa%a9-fun-run-dance-kick-off/
END:VEVENT
BEGIN:VEVENT
DTSTART;TZID=America/New_York:20260131T110000
DTEND;TZID=America/New_York:20260131T123000
DTSTAMP:20260422T133618
CREATED:20251216T115743Z
LAST-MODIFIED:20251220T045032Z
UID:36983-1769857200-1769862600@sanbornpto.com
SUMMARY:❄️Sanborn Play⛄ (Matinee)
DESCRIPTION:Frozen Jr.  \nTickets on Sale 1/5https://lp.constantcontactpages.com/ev/reg/akdj245
URL:https://sanbornpto.com/event/%e2%9d%84%ef%b8%8fsanborn-play%e2%9b%84-matinee/
END:VEVENT
BEGIN:VEVENT
DTSTART;TZID=America/New_York:20260130T190000
DTEND;TZID=America/New_York:20260130T203000
DTSTAMP:20260422T133618
CREATED:20250909T201832Z
LAST-MODIFIED:20251220T045032Z
UID:33267-1769799600-1769805000@sanbornpto.com
SUMMARY:❄️Sanborn Play⛄ (evening show)
DESCRIPTION:Frozen Jr\nTickets on sale 1/5 \nhttps://lp.constantcontactpages.com/ev/reg/akdj245
URL:https://sanbornpto.com/event/sanborn-play/
END:VEVENT
BEGIN:VEVENT
DTSTART;TZID=America/New_York:20260128T121500
DTEND;TZID=America/New_York:20260128T121500
DTSTAMP:20260422T133618
CREATED:20250807T194830Z
LAST-MODIFIED:20251220T045032Z
UID:32060-1769602500-1769602500@sanbornpto.com
SUMMARY:Early Release
DESCRIPTION:
URL:https://sanbornpto.com/event/early-release-3/
END:VEVENT
BEGIN:VEVENT
DTSTART;TZID=America/New_York:20260126T190000
DTEND;TZID=America/New_York:20260126T200000
DTSTAMP:20260422T133618
CREATED:20260121T150449Z
LAST-MODIFIED:20260121T150449Z
UID:40177-1769454000-1769457600@sanbornpto.com
SUMMARY:PTO Meeting
DESCRIPTION:Join us in the Library at Sanborn for a chat with APS Superintendent Dr. Parvey and Keith Taverna\, Assistant Superintendent of Finance and Administration as they sit down to talk about the Andover Public School Budget. \n  \nBabysitters will be available!
URL:https://sanbornpto.com/event/pto-meeting-10/
END:VEVENT
BEGIN:VEVENT
DTSTART;TZID=America/New_York:20260121T190000
DTEND;TZID=America/New_York:20260121T203000
DTSTAMP:20260422T133618
CREATED:20250807T194830Z
LAST-MODIFIED:20251220T045032Z
UID:32059-1769022000-1769027400@sanbornpto.com
SUMMARY:🎶 Sanborn Winter Concert :  Chorus and Orff
DESCRIPTION:
URL:https://sanbornpto.com/event/school-concert/
END:VEVENT
BEGIN:VEVENT
DTSTART;VALUE=DATE:20260119
DTEND;VALUE=DATE:20260120
DTSTAMP:20260422T133618
CREATED:20250807T194830Z
LAST-MODIFIED:20251220T045032Z
UID:32058-1768780800-1768867199@sanbornpto.com
SUMMARY:Sanborn Closed - MLK Day
DESCRIPTION:
URL:https://sanbornpto.com/event/sanborn-closed-mlk-day/
END:VEVENT
BEGIN:VEVENT
DTSTART;VALUE=DATE:20260109
DTEND;VALUE=DATE:20260110
DTSTAMP:20260422T133618
CREATED:20251120T214217Z
LAST-MODIFIED:20251220T045032Z
UID:36050-1767916800-1768003199@sanbornpto.com
SUMMARY:👕 Sanborn Spirit Day 👕
DESCRIPTION:Wear your favorite Sanborn or Blue gear!
URL:https://sanbornpto.com/event/%f0%9f%91%95-sanborn-spirit-day-%f0%9f%91%95-2/
END:VEVENT
END:VCALENDAR