BEGIN:VCALENDAR
VERSION:2.0
PRODID:-//Sanborn PTO - ECPv6.15.15//NONSGML v1.0//EN
CALSCALE:GREGORIAN
METHOD:PUBLISH
X-WR-CALNAME:Sanborn PTO
X-ORIGINAL-URL:https://sanbornpto.com
X-WR-CALDESC:Events for Sanborn PTO
REFRESH-INTERVAL;VALUE=DURATION:PT1H
X-Robots-Tag:noindex
X-PUBLISHED-TTL:PT1H
BEGIN:VTIMEZONE
TZID:America/New_York
BEGIN:DAYLIGHT
TZOFFSETFROM:-0500
TZOFFSETTO:-0400
TZNAME:EDT
DTSTART:20230312T070000
END:DAYLIGHT
BEGIN:STANDARD
TZOFFSETFROM:-0400
TZOFFSETTO:-0500
TZNAME:EST
DTSTART:20231105T060000
END:STANDARD
BEGIN:DAYLIGHT
TZOFFSETFROM:-0500
TZOFFSETTO:-0400
TZNAME:EDT
DTSTART:20240310T070000
END:DAYLIGHT
BEGIN:STANDARD
TZOFFSETFROM:-0400
TZOFFSETTO:-0500
TZNAME:EST
DTSTART:20241103T060000
END:STANDARD
BEGIN:DAYLIGHT
TZOFFSETFROM:-0500
TZOFFSETTO:-0400
TZNAME:EDT
DTSTART:20250309T070000
END:DAYLIGHT
BEGIN:STANDARD
TZOFFSETFROM:-0400
TZOFFSETTO:-0500
TZNAME:EST
DTSTART:20251102T060000
END:STANDARD
END:VTIMEZONE
BEGIN:VEVENT
DTSTART;TZID=America/New_York:20241015T080000
DTEND;TZID=America/New_York:20241015T084500
DTSTAMP:20260425T111535
CREATED:20240917T143430Z
LAST-MODIFIED:20241015T163632Z
UID:17248-1728979200-1728981900@sanbornpto.com
SUMMARY:Explorations: Top Secret Science\, Jujitsu\, Dodgeball Scrapbooking
DESCRIPTION:
URL:https://sanbornpto.com/event/explorations-top-secret-science-jujitsu-dodgeball-scrapbooking-3/
END:VEVENT
BEGIN:VEVENT
DTSTART;TZID=America/New_York:20241016T080000
DTEND;TZID=America/New_York:20241016T084500
DTSTAMP:20260425T111535
CREATED:20240917T143430Z
LAST-MODIFIED:20241016T162757Z
UID:17249-1729065600-1729068300@sanbornpto.com
SUMMARY:Explorations: Dodgeball 2-3\, Lego League\, Run Club
DESCRIPTION:
URL:https://sanbornpto.com/event/explorations-dodgeball-2-3-lego-league-run-club-3/
END:VEVENT
BEGIN:VEVENT
DTSTART;TZID=America/New_York:20241016T080000
DTEND;TZID=America/New_York:20241016T084500
DTSTAMP:20260425T111535
CREATED:20240917T143430Z
LAST-MODIFIED:20241016T162757Z
UID:17250-1729065600-1729068300@sanbornpto.com
SUMMARY:Explorations: Student Council
DESCRIPTION:
URL:https://sanbornpto.com/event/explorations-student-council-19/
END:VEVENT
BEGIN:VEVENT
DTSTART;TZID=America/New_York:20241017T080000
DTEND;TZID=America/New_York:20241017T084500
DTSTAMP:20260425T111535
CREATED:20240917T143430Z
LAST-MODIFIED:20241017T162234Z
UID:17251-1729152000-1729154700@sanbornpto.com
SUMMARY:Explorations: Science Rocks\, Basketball\, Crazy 8's Math Club\, Fun with Fuse Beads
DESCRIPTION:
URL:https://sanbornpto.com/event/explorations-science-rocks-basketball-crazy-8s-math-club-fun-with-fuse-beads-3/
END:VEVENT
BEGIN:VEVENT
DTSTART;TZID=America/New_York:20241018T080000
DTEND;TZID=America/New_York:20241018T084500
DTSTAMP:20260425T111535
CREATED:20240917T143431Z
LAST-MODIFIED:20241018T162506Z
UID:17252-1729238400-1729241100@sanbornpto.com
SUMMARY:Explorations: Kidcasso\, Sanborn Cheers\, Books & Breakfast
DESCRIPTION:
URL:https://sanbornpto.com/event/explorations-kidcasso-sanborn-cheers-books-breakfast-3/
END:VEVENT
BEGIN:VEVENT
DTSTART;TZID=America/New_York:20241018T080000
DTEND;TZID=America/New_York:20241018T084500
DTSTAMP:20260425T111535
CREATED:20240917T143431Z
LAST-MODIFIED:20241018T162506Z
UID:17253-1729238400-1729241100@sanbornpto.com
SUMMARY:Explorations: Blanket Making
DESCRIPTION:
URL:https://sanbornpto.com/event/explorations-blanket-making-3/
END:VEVENT
BEGIN:VEVENT
DTSTART;TZID=America/New_York:20241018T173000
DTEND;TZID=America/New_York:20241018T193000
DTSTAMP:20260425T111535
CREATED:20240925T221736Z
LAST-MODIFIED:20241019T025604Z
UID:17575-1729272600-1729279800@sanbornpto.com
SUMMARY:5th Grade Haunted House Creative Night
DESCRIPTION:Sign up here: https://www.signupgenius.com/go/8050F4EADA62DA7FE3-51655964-5thgrade
URL:https://sanbornpto.com/event/5th-grade-haunted-house-creative-night/
END:VEVENT
BEGIN:VEVENT
DTSTART;TZID=America/New_York:20241021T080000
DTEND;TZID=America/New_York:20241021T084500
DTSTAMP:20260425T111535
CREATED:20240917T143431Z
LAST-MODIFIED:20241021T161902Z
UID:17254-1729497600-1729500300@sanbornpto.com
SUMMARY:Explorations: Hip Hop Troupe\, Bulldog Play Group
DESCRIPTION:
URL:https://sanbornpto.com/event/explorations-hip-hop-troupe-bulldog-play-group-3/
END:VEVENT
BEGIN:VEVENT
DTSTART;TZID=America/New_York:20241021T080000
DTEND;TZID=America/New_York:20241021T084500
DTSTAMP:20260425T111535
CREATED:20240917T143431Z
LAST-MODIFIED:20241021T161902Z
UID:17255-1729497600-1729500300@sanbornpto.com
SUMMARY:Explorations: Chess Academy
DESCRIPTION:
URL:https://sanbornpto.com/event/explorations-chess-academy-2/
END:VEVENT
BEGIN:VEVENT
DTSTART;TZID=America/New_York:20241022T080000
DTEND;TZID=America/New_York:20241022T084500
DTSTAMP:20260425T111535
CREATED:20240917T143432Z
LAST-MODIFIED:20241022T160907Z
UID:17256-1729584000-1729586700@sanbornpto.com
SUMMARY:Explorations: Top Secret Science\, Jujitsu\, Dodgeball Scrapbooking
DESCRIPTION:
URL:https://sanbornpto.com/event/explorations-top-secret-science-jujitsu-dodgeball-scrapbooking-4/
END:VEVENT
BEGIN:VEVENT
DTSTART;TZID=America/New_York:20241022T160000
DTEND;TZID=America/New_York:20241022T170000
DTSTAMP:20260425T111535
CREATED:20240926T220449Z
LAST-MODIFIED:20241023T002646Z
UID:17613-1729612800-1729616400@sanbornpto.com
SUMMARY:4th & 5th Grade XC meet
DESCRIPTION:
URL:https://sanbornpto.com/event/4th-5th-grade-xc-meet/
LOCATION:Andover High School\, 80 Shawsheen Rd\, Andover\, MA\, United States
END:VEVENT
BEGIN:VEVENT
DTSTART;TZID=America/New_York:20241023T080000
DTEND;TZID=America/New_York:20241023T084500
DTSTAMP:20260425T111535
CREATED:20240917T143443Z
LAST-MODIFIED:20241023T163415Z
UID:17257-1729670400-1729673100@sanbornpto.com
SUMMARY:Explorations: Dodgeball 2-3\, Lego League\, Run Club
DESCRIPTION:
URL:https://sanbornpto.com/event/explorations-dodgeball-2-3-lego-league-run-club-4/
END:VEVENT
BEGIN:VEVENT
DTSTART;TZID=America/New_York:20241023T080000
DTEND;TZID=America/New_York:20241023T084500
DTSTAMP:20260425T111535
CREATED:20240917T143444Z
LAST-MODIFIED:20241023T163415Z
UID:17258-1729670400-1729673100@sanbornpto.com
SUMMARY:Explorations: Student Council
DESCRIPTION:
URL:https://sanbornpto.com/event/explorations-student-council-20/
END:VEVENT
BEGIN:VEVENT
DTSTART;TZID=America/New_York:20241024T080000
DTEND;TZID=America/New_York:20241024T084500
DTSTAMP:20260425T111535
CREATED:20240917T143444Z
LAST-MODIFIED:20241024T164004Z
UID:17259-1729756800-1729759500@sanbornpto.com
SUMMARY:Explorations: Science Rocks\, Basketball\, Crazy 8's Math Club\, Fun with Fuse Beads
DESCRIPTION:
URL:https://sanbornpto.com/event/explorations-science-rocks-basketball-crazy-8s-math-club-fun-with-fuse-beads-4/
END:VEVENT
BEGIN:VEVENT
DTSTART;TZID=America/New_York:20241025T080000
DTEND;TZID=America/New_York:20241025T084500
DTSTAMP:20260425T111535
CREATED:20240917T143444Z
LAST-MODIFIED:20241025T161225Z
UID:17260-1729843200-1729845900@sanbornpto.com
SUMMARY:Explorations: Blanket Making
DESCRIPTION:
URL:https://sanbornpto.com/event/explorations-blanket-making-4/
END:VEVENT
BEGIN:VEVENT
DTSTART;TZID=America/New_York:20241025T080000
DTEND;TZID=America/New_York:20241025T084500
DTSTAMP:20260425T111535
CREATED:20240917T143444Z
LAST-MODIFIED:20241025T161225Z
UID:17261-1729843200-1729845900@sanbornpto.com
SUMMARY:Explorations: Kidcasso\, Sanborn Cheers\, Books & Breakfast
DESCRIPTION:
URL:https://sanbornpto.com/event/explorations-kidcasso-sanborn-cheers-books-breakfast-4/
END:VEVENT
BEGIN:VEVENT
DTSTART;TZID=America/New_York:20241026T150000
DTEND;TZID=America/New_York:20241026T170000
DTSTAMP:20260425T111535
CREATED:20240712T180857Z
LAST-MODIFIED:20241027T005427Z
UID:14556-1729954800-1729962000@sanbornpto.com
SUMMARY:Spooky Fun Fair
DESCRIPTION:
URL:https://sanbornpto.com/event/spooky-fun-fair/
END:VEVENT
BEGIN:VEVENT
DTSTART;TZID=America/New_York:20241028T080000
DTEND;TZID=America/New_York:20241028T084500
DTSTAMP:20260425T111535
CREATED:20240917T143444Z
LAST-MODIFIED:20241028T163753Z
UID:17262-1730102400-1730105100@sanbornpto.com
SUMMARY:Explorations: Hip Hop Troupe\, Bulldog Play Group
DESCRIPTION:
URL:https://sanbornpto.com/event/explorations-hip-hop-troupe-bulldog-play-group-4/
END:VEVENT
BEGIN:VEVENT
DTSTART;TZID=America/New_York:20241028T080000
DTEND;TZID=America/New_York:20241028T084500
DTSTAMP:20260425T111535
CREATED:20240917T143444Z
LAST-MODIFIED:20241028T163753Z
UID:17263-1730102400-1730105100@sanbornpto.com
SUMMARY:Explorations: Chess Academy
DESCRIPTION:
URL:https://sanbornpto.com/event/explorations-chess-academy-3/
END:VEVENT
BEGIN:VEVENT
DTSTART;TZID=America/New_York:20241029T080000
DTEND;TZID=America/New_York:20241029T084500
DTSTAMP:20260425T111535
CREATED:20240917T143445Z
LAST-MODIFIED:20241029T164255Z
UID:17264-1730188800-1730191500@sanbornpto.com
SUMMARY:Explorations: Top Secret Science\, Jujitsu\, Dodgeball Scrapbooking
DESCRIPTION:
URL:https://sanbornpto.com/event/explorations-top-secret-science-jujitsu-dodgeball-scrapbooking-5/
END:VEVENT
BEGIN:VEVENT
DTSTART;TZID=America/New_York:20241030T080000
DTEND;TZID=America/New_York:20241030T084500
DTSTAMP:20260425T111535
CREATED:20240917T143445Z
LAST-MODIFIED:20241030T162222Z
UID:17265-1730275200-1730277900@sanbornpto.com
SUMMARY:Explorations: Student Council
DESCRIPTION:
URL:https://sanbornpto.com/event/explorations-student-council-21/
END:VEVENT
BEGIN:VEVENT
DTSTART;TZID=America/New_York:20241030T080000
DTEND;TZID=America/New_York:20241030T084500
DTSTAMP:20260425T111535
CREATED:20240917T143456Z
LAST-MODIFIED:20241030T162222Z
UID:17266-1730275200-1730277900@sanbornpto.com
SUMMARY:Explorations: Dodgeball 2-3\, Lego League\, Run Club
DESCRIPTION:
URL:https://sanbornpto.com/event/explorations-dodgeball-2-3-lego-league-run-club-5/
END:VEVENT
BEGIN:VEVENT
DTSTART;TZID=America/New_York:20241031T080000
DTEND;TZID=America/New_York:20241031T084500
DTSTAMP:20260425T111535
CREATED:20240917T143456Z
LAST-MODIFIED:20241031T161420Z
UID:17267-1730361600-1730364300@sanbornpto.com
SUMMARY:Explorations: Science Rocks\, Basketball\, Crazy 8's Math Club\, Fun with Fuse Beads
DESCRIPTION:
URL:https://sanbornpto.com/event/explorations-science-rocks-basketball-crazy-8s-math-club-fun-with-fuse-beads-5/
END:VEVENT
BEGIN:VEVENT
DTSTART;VALUE=DATE:20241101
DTEND;VALUE=DATE:20241102
DTSTAMP:20260425T111535
CREATED:20240712T180857Z
LAST-MODIFIED:20241102T033633Z
UID:14557-1730419200-1730505599@sanbornpto.com
SUMMARY:Kindergarten Conference ONLY- NO K CLASSES
DESCRIPTION:
URL:https://sanbornpto.com/event/kindergarten-conference-only-no-k-classes/
END:VEVENT
BEGIN:VEVENT
DTSTART;TZID=America/New_York:20241101T080000
DTEND;TZID=America/New_York:20241101T084500
DTSTAMP:20260425T111535
CREATED:20240917T143456Z
LAST-MODIFIED:20241101T163655Z
UID:17268-1730448000-1730450700@sanbornpto.com
SUMMARY:Explorations: Blanket Making
DESCRIPTION:
URL:https://sanbornpto.com/event/explorations-blanket-making-5/
END:VEVENT
BEGIN:VEVENT
DTSTART;VALUE=DATE:20241104
DTEND;VALUE=DATE:20241118
DTSTAMP:20260425T111535
CREATED:20241031T210403Z
LAST-MODIFIED:20241118T044313Z
UID:18856-1730678400-1731887999@sanbornpto.com
SUMMARY:Sanborn Spirit Store Open
DESCRIPTION:
URL:https://sanbornpto.com/event/sanborn-spirit-store-open/
END:VEVENT
BEGIN:VEVENT
DTSTART;TZID=America/New_York:20241104T080000
DTEND;TZID=America/New_York:20241104T084500
DTSTAMP:20260425T111535
CREATED:20240917T143456Z
LAST-MODIFIED:20241104T181814Z
UID:17269-1730707200-1730709900@sanbornpto.com
SUMMARY:Explorations: Chess Academy
DESCRIPTION:
URL:https://sanbornpto.com/event/explorations-chess-academy-4/
END:VEVENT
BEGIN:VEVENT
DTSTART;TZID=America/New_York:20241104T080000
DTEND;TZID=America/New_York:20241104T084500
DTSTAMP:20260425T111535
CREATED:20240917T143457Z
LAST-MODIFIED:20241104T181814Z
UID:17270-1730707200-1730709900@sanbornpto.com
SUMMARY:Explorations: Hip Hop Troupe\, Bulldog Play Group
DESCRIPTION:
URL:https://sanbornpto.com/event/explorations-hip-hop-troupe-bulldog-play-group-5/
END:VEVENT
BEGIN:VEVENT
DTSTART;VALUE=DATE:20241105
DTEND;VALUE=DATE:20241106
DTSTAMP:20260425T111535
CREATED:20240712T180857Z
LAST-MODIFIED:20241106T043324Z
UID:14558-1730764800-1730851199@sanbornpto.com
SUMMARY:Teacher Conferences (Grades K-5) - NO SCHOOL
DESCRIPTION:
URL:https://sanbornpto.com/event/teacher-conferences-grades-k-5-no-school/
END:VEVENT
BEGIN:VEVENT
DTSTART;TZID=America/New_York:20241106T080000
DTEND;TZID=America/New_York:20241106T084500
DTSTAMP:20260425T111535
CREATED:20240917T143457Z
LAST-MODIFIED:20241106T182608Z
UID:17271-1730880000-1730882700@sanbornpto.com
SUMMARY:Explorations: Dodgeball 2-3\, Lego League\, Run Club
DESCRIPTION:
URL:https://sanbornpto.com/event/explorations-dodgeball-2-3-lego-league-run-club-6/
END:VEVENT
END:VCALENDAR