BEGIN:VCALENDAR
VERSION:2.0
PRODID:-//Sanborn PTO - ECPv6.15.15//NONSGML v1.0//EN
CALSCALE:GREGORIAN
METHOD:PUBLISH
X-WR-CALNAME:Sanborn PTO
X-ORIGINAL-URL:https://sanbornpto.com
X-WR-CALDESC:Events for Sanborn PTO
REFRESH-INTERVAL;VALUE=DURATION:PT1H
X-Robots-Tag:noindex
X-PUBLISHED-TTL:PT1H
BEGIN:VTIMEZONE
TZID:America/New_York
BEGIN:DAYLIGHT
TZOFFSETFROM:-0500
TZOFFSETTO:-0400
TZNAME:EDT
DTSTART:20230312T070000
END:DAYLIGHT
BEGIN:STANDARD
TZOFFSETFROM:-0400
TZOFFSETTO:-0500
TZNAME:EST
DTSTART:20231105T060000
END:STANDARD
BEGIN:DAYLIGHT
TZOFFSETFROM:-0500
TZOFFSETTO:-0400
TZNAME:EDT
DTSTART:20240310T070000
END:DAYLIGHT
BEGIN:STANDARD
TZOFFSETFROM:-0400
TZOFFSETTO:-0500
TZNAME:EST
DTSTART:20241103T060000
END:STANDARD
BEGIN:DAYLIGHT
TZOFFSETFROM:-0500
TZOFFSETTO:-0400
TZNAME:EDT
DTSTART:20250309T070000
END:DAYLIGHT
BEGIN:STANDARD
TZOFFSETFROM:-0400
TZOFFSETTO:-0500
TZNAME:EST
DTSTART:20251102T060000
END:STANDARD
END:VTIMEZONE
BEGIN:VEVENT
DTSTART;TZID=America/New_York:20240926T200000
DTEND;TZID=America/New_York:20240926T203000
DTSTAMP:20260421T105002
CREATED:20240916T174642Z
LAST-MODIFIED:20240927T041216Z
UID:17198-1727380800-1727382600@sanbornpto.com
SUMMARY:Fall Explorations sign-ups close
DESCRIPTION:
URL:https://sanbornpto.com/event/fall-explorations-sign-ups-close/
END:VEVENT
BEGIN:VEVENT
DTSTART;TZID=America/New_York:20240930T080000
DTEND;TZID=America/New_York:20240930T084500
DTSTAMP:20260421T105002
CREATED:20240917T143403Z
LAST-MODIFIED:20240930T163937Z
UID:17233-1727683200-1727685900@sanbornpto.com
SUMMARY:Explorations: Hip Hop Troupe\, Bulldog Play Group
DESCRIPTION:
URL:https://sanbornpto.com/event/explorations-hip-hop-troupe-bulldog-play-group/
END:VEVENT
BEGIN:VEVENT
DTSTART;VALUE=DATE:20241001
DTEND;VALUE=DATE:20241002
DTSTAMP:20260421T105002
CREATED:20240926T023451Z
LAST-MODIFIED:20241002T034916Z
UID:17582-1727740800-1727827199@sanbornpto.com
SUMMARY:Bruins spirit day
DESCRIPTION:
URL:https://sanbornpto.com/event/bruins-spirit-day/
END:VEVENT
BEGIN:VEVENT
DTSTART;TZID=America/New_York:20241001T080000
DTEND;TZID=America/New_York:20241001T084500
DTSTAMP:20260421T105002
CREATED:20240917T143404Z
LAST-MODIFIED:20241001T162258Z
UID:17234-1727769600-1727772300@sanbornpto.com
SUMMARY:Explorations: Top Secret Science\, Jujitsu\, Dodgeball Scrapbooking
DESCRIPTION:
URL:https://sanbornpto.com/event/explorations-top-secret-science-jujitsu-dodgeball-scrapbooking/
END:VEVENT
BEGIN:VEVENT
DTSTART;TZID=America/New_York:20241002T080000
DTEND;TZID=America/New_York:20241002T084500
DTSTAMP:20260421T105002
CREATED:20240917T143404Z
LAST-MODIFIED:20241002T163807Z
UID:17235-1727856000-1727858700@sanbornpto.com
SUMMARY:Explorations: Dodgeball 2-3\, Lego League\, Run Club
DESCRIPTION:
URL:https://sanbornpto.com/event/explorations-dodgeball-2-3-lego-league-run-club/
END:VEVENT
BEGIN:VEVENT
DTSTART;TZID=America/New_York:20241002T080000
DTEND;TZID=America/New_York:20241002T084500
DTSTAMP:20260421T105002
CREATED:20240917T143404Z
LAST-MODIFIED:20241002T163807Z
UID:17236-1727856000-1727858700@sanbornpto.com
SUMMARY:Explorations: Student Council
DESCRIPTION:
URL:https://sanbornpto.com/event/explorations-student-council-17/
END:VEVENT
BEGIN:VEVENT
DTSTART;TZID=America/New_York:20241002T121500
DTEND;TZID=America/New_York:20241002T124500
DTSTAMP:20260421T105002
CREATED:20240712T173606Z
LAST-MODIFIED:20241002T201935Z
UID:14553-1727871300-1727873100@sanbornpto.com
SUMMARY:Sanborn Early Release
DESCRIPTION:
URL:https://sanbornpto.com/event/sanborn-early-release-5/
END:VEVENT
BEGIN:VEVENT
DTSTART;TZID=America/New_York:20241003T080000
DTEND;TZID=America/New_York:20241003T084500
DTSTAMP:20260421T105002
CREATED:20240917T143404Z
LAST-MODIFIED:20241003T161623Z
UID:17237-1727942400-1727945100@sanbornpto.com
SUMMARY:Explorations: Science Rocks\, Basketball\, Crazy 8's Math Club\, Fun with Fuse Beads
DESCRIPTION:
URL:https://sanbornpto.com/event/explorations-science-rocks-basketball-crazy-8s-math-club-fun-with-fuse-beads/
END:VEVENT
BEGIN:VEVENT
DTSTART;TZID=America/New_York:20241004T080000
DTEND;TZID=America/New_York:20241004T084500
DTSTAMP:20260421T105002
CREATED:20240917T143405Z
LAST-MODIFIED:20241004T161747Z
UID:17238-1728028800-1728031500@sanbornpto.com
SUMMARY:Explorations: Blanket Making
DESCRIPTION:
URL:https://sanbornpto.com/event/explorations-blanket-making/
END:VEVENT
BEGIN:VEVENT
DTSTART;TZID=America/New_York:20241004T080000
DTEND;TZID=America/New_York:20241004T084500
DTSTAMP:20260421T105002
CREATED:20240917T143416Z
LAST-MODIFIED:20241004T161747Z
UID:17239-1728028800-1728031500@sanbornpto.com
SUMMARY:Explorations: Kidcasso\, Sanborn Cheers\, Books & Breakfast
DESCRIPTION:
URL:https://sanbornpto.com/event/explorations-kidcasso-sanborn-cheers-books-breakfast/
END:VEVENT
BEGIN:VEVENT
DTSTART;TZID=America/New_York:20241007T080000
DTEND;TZID=America/New_York:20241007T084500
DTSTAMP:20260421T105002
CREATED:20240917T143416Z
LAST-MODIFIED:20241007T163103Z
UID:17240-1728288000-1728290700@sanbornpto.com
SUMMARY:Explorations: Hip Hop Troupe\, Bulldog Play Group
DESCRIPTION:
URL:https://sanbornpto.com/event/explorations-hip-hop-troupe-bulldog-play-group-2/
END:VEVENT
BEGIN:VEVENT
DTSTART;TZID=America/New_York:20241007T080000
DTEND;TZID=America/New_York:20241007T084500
DTSTAMP:20260421T105002
CREATED:20240917T143416Z
LAST-MODIFIED:20241007T163103Z
UID:17241-1728288000-1728290700@sanbornpto.com
SUMMARY:Explorations: Chess Academy
DESCRIPTION:
URL:https://sanbornpto.com/event/explorations-chess-academy/
END:VEVENT
BEGIN:VEVENT
DTSTART;TZID=America/New_York:20241008T080000
DTEND;TZID=America/New_York:20241008T084500
DTSTAMP:20260421T105002
CREATED:20240917T143416Z
LAST-MODIFIED:20241008T162005Z
UID:17242-1728374400-1728377100@sanbornpto.com
SUMMARY:Explorations: Top Secret Science\, Jujitsu\, Dodgeball Scrapbooking
DESCRIPTION:
URL:https://sanbornpto.com/event/explorations-top-secret-science-jujitsu-dodgeball-scrapbooking-2/
END:VEVENT
BEGIN:VEVENT
DTSTART;TZID=America/New_York:20241008T190000
DTEND;TZID=America/New_York:20241008T200000
DTSTAMP:20260421T105002
CREATED:20240917T140336Z
LAST-MODIFIED:20241009T033310Z
UID:17231-1728414000-1728417600@sanbornpto.com
SUMMARY:Live Webinar: Parenting in a Digital Age
DESCRIPTION:Sanborn is thrilled to partner with the Andover Education Association to bring you a live webinar with Brooke Shannon\, Executive Director and founder of Wait Until 8th! \n \nMore information on how to register coming soon!
URL:https://sanbornpto.com/event/live-webinar-parenting-in-a-digital-age/
END:VEVENT
BEGIN:VEVENT
DTSTART;TZID=America/New_York:20241009T080000
DTEND;TZID=America/New_York:20241009T084500
DTSTAMP:20260421T105002
CREATED:20240917T143416Z
LAST-MODIFIED:20241009T163610Z
UID:17243-1728460800-1728463500@sanbornpto.com
SUMMARY:Explorations: Dodgeball 2-3\, Lego League\, Run Club
DESCRIPTION:
URL:https://sanbornpto.com/event/explorations-dodgeball-2-3-lego-league-run-club-2/
END:VEVENT
BEGIN:VEVENT
DTSTART;TZID=America/New_York:20241009T080000
DTEND;TZID=America/New_York:20241009T084500
DTSTAMP:20260421T105002
CREATED:20240917T143417Z
LAST-MODIFIED:20241009T163610Z
UID:17244-1728460800-1728463500@sanbornpto.com
SUMMARY:Explorations: Student Council
DESCRIPTION:
URL:https://sanbornpto.com/event/explorations-student-council-18/
END:VEVENT
BEGIN:VEVENT
DTSTART;TZID=America/New_York:20241010T080000
DTEND;TZID=America/New_York:20241010T084500
DTSTAMP:20260421T105002
CREATED:20240917T143417Z
LAST-MODIFIED:20241010T161900Z
UID:17245-1728547200-1728549900@sanbornpto.com
SUMMARY:Explorations: Science Rocks\, Basketball\, Crazy 8's Math Club\, Fun with Fuse Beads
DESCRIPTION:
URL:https://sanbornpto.com/event/explorations-science-rocks-basketball-crazy-8s-math-club-fun-with-fuse-beads-2/
END:VEVENT
BEGIN:VEVENT
DTSTART;TZID=America/New_York:20241011T080000
DTEND;TZID=America/New_York:20241011T084500
DTSTAMP:20260421T105002
CREATED:20240917T143417Z
LAST-MODIFIED:20241011T164058Z
UID:17246-1728633600-1728636300@sanbornpto.com
SUMMARY:Explorations: Blanket Making
DESCRIPTION:
URL:https://sanbornpto.com/event/explorations-blanket-making-2/
END:VEVENT
BEGIN:VEVENT
DTSTART;TZID=America/New_York:20241011T080000
DTEND;TZID=America/New_York:20241011T084500
DTSTAMP:20260421T105002
CREATED:20240917T143417Z
LAST-MODIFIED:20241011T164058Z
UID:17247-1728633600-1728636300@sanbornpto.com
SUMMARY:Explorations: Kidcasso\, Sanborn Cheers\, Books & Breakfast
DESCRIPTION:
URL:https://sanbornpto.com/event/explorations-kidcasso-sanborn-cheers-books-breakfast-2/
END:VEVENT
BEGIN:VEVENT
DTSTART;VALUE=DATE:20241014
DTEND;VALUE=DATE:20241015
DTSTAMP:20260421T105002
CREATED:20240712T173606Z
LAST-MODIFIED:20241015T035952Z
UID:14554-1728864000-1728950399@sanbornpto.com
SUMMARY:Sanborn closed
DESCRIPTION:
URL:https://sanbornpto.com/event/sanborn-closed-9/
END:VEVENT
BEGIN:VEVENT
DTSTART;TZID=America/New_York:20241015T080000
DTEND;TZID=America/New_York:20241015T084500
DTSTAMP:20260421T105002
CREATED:20240917T143430Z
LAST-MODIFIED:20241015T163632Z
UID:17248-1728979200-1728981900@sanbornpto.com
SUMMARY:Explorations: Top Secret Science\, Jujitsu\, Dodgeball Scrapbooking
DESCRIPTION:
URL:https://sanbornpto.com/event/explorations-top-secret-science-jujitsu-dodgeball-scrapbooking-3/
END:VEVENT
BEGIN:VEVENT
DTSTART;TZID=America/New_York:20241016T080000
DTEND;TZID=America/New_York:20241016T084500
DTSTAMP:20260421T105002
CREATED:20240917T143430Z
LAST-MODIFIED:20241016T162757Z
UID:17249-1729065600-1729068300@sanbornpto.com
SUMMARY:Explorations: Dodgeball 2-3\, Lego League\, Run Club
DESCRIPTION:
URL:https://sanbornpto.com/event/explorations-dodgeball-2-3-lego-league-run-club-3/
END:VEVENT
BEGIN:VEVENT
DTSTART;TZID=America/New_York:20241016T080000
DTEND;TZID=America/New_York:20241016T084500
DTSTAMP:20260421T105002
CREATED:20240917T143430Z
LAST-MODIFIED:20241016T162757Z
UID:17250-1729065600-1729068300@sanbornpto.com
SUMMARY:Explorations: Student Council
DESCRIPTION:
URL:https://sanbornpto.com/event/explorations-student-council-19/
END:VEVENT
BEGIN:VEVENT
DTSTART;TZID=America/New_York:20241017T080000
DTEND;TZID=America/New_York:20241017T084500
DTSTAMP:20260421T105002
CREATED:20240917T143430Z
LAST-MODIFIED:20241017T162234Z
UID:17251-1729152000-1729154700@sanbornpto.com
SUMMARY:Explorations: Science Rocks\, Basketball\, Crazy 8's Math Club\, Fun with Fuse Beads
DESCRIPTION:
URL:https://sanbornpto.com/event/explorations-science-rocks-basketball-crazy-8s-math-club-fun-with-fuse-beads-3/
END:VEVENT
BEGIN:VEVENT
DTSTART;TZID=America/New_York:20241018T080000
DTEND;TZID=America/New_York:20241018T084500
DTSTAMP:20260421T105002
CREATED:20240917T143431Z
LAST-MODIFIED:20241018T162506Z
UID:17252-1729238400-1729241100@sanbornpto.com
SUMMARY:Explorations: Kidcasso\, Sanborn Cheers\, Books & Breakfast
DESCRIPTION:
URL:https://sanbornpto.com/event/explorations-kidcasso-sanborn-cheers-books-breakfast-3/
END:VEVENT
BEGIN:VEVENT
DTSTART;TZID=America/New_York:20241018T080000
DTEND;TZID=America/New_York:20241018T084500
DTSTAMP:20260421T105002
CREATED:20240917T143431Z
LAST-MODIFIED:20241018T162506Z
UID:17253-1729238400-1729241100@sanbornpto.com
SUMMARY:Explorations: Blanket Making
DESCRIPTION:
URL:https://sanbornpto.com/event/explorations-blanket-making-3/
END:VEVENT
BEGIN:VEVENT
DTSTART;TZID=America/New_York:20241018T173000
DTEND;TZID=America/New_York:20241018T193000
DTSTAMP:20260421T105002
CREATED:20240925T221736Z
LAST-MODIFIED:20241019T025604Z
UID:17575-1729272600-1729279800@sanbornpto.com
SUMMARY:5th Grade Haunted House Creative Night
DESCRIPTION:Sign up here: https://www.signupgenius.com/go/8050F4EADA62DA7FE3-51655964-5thgrade
URL:https://sanbornpto.com/event/5th-grade-haunted-house-creative-night/
END:VEVENT
BEGIN:VEVENT
DTSTART;TZID=America/New_York:20241021T080000
DTEND;TZID=America/New_York:20241021T084500
DTSTAMP:20260421T105002
CREATED:20240917T143431Z
LAST-MODIFIED:20241021T161902Z
UID:17254-1729497600-1729500300@sanbornpto.com
SUMMARY:Explorations: Hip Hop Troupe\, Bulldog Play Group
DESCRIPTION:
URL:https://sanbornpto.com/event/explorations-hip-hop-troupe-bulldog-play-group-3/
END:VEVENT
BEGIN:VEVENT
DTSTART;TZID=America/New_York:20241021T080000
DTEND;TZID=America/New_York:20241021T084500
DTSTAMP:20260421T105002
CREATED:20240917T143431Z
LAST-MODIFIED:20241021T161902Z
UID:17255-1729497600-1729500300@sanbornpto.com
SUMMARY:Explorations: Chess Academy
DESCRIPTION:
URL:https://sanbornpto.com/event/explorations-chess-academy-2/
END:VEVENT
BEGIN:VEVENT
DTSTART;TZID=America/New_York:20241022T080000
DTEND;TZID=America/New_York:20241022T084500
DTSTAMP:20260421T105002
CREATED:20240917T143432Z
LAST-MODIFIED:20241022T160907Z
UID:17256-1729584000-1729586700@sanbornpto.com
SUMMARY:Explorations: Top Secret Science\, Jujitsu\, Dodgeball Scrapbooking
DESCRIPTION:
URL:https://sanbornpto.com/event/explorations-top-secret-science-jujitsu-dodgeball-scrapbooking-4/
END:VEVENT
END:VCALENDAR