BEGIN:VCALENDAR
VERSION:2.0
PRODID:-//Sanborn PTO - ECPv6.15.15//NONSGML v1.0//EN
CALSCALE:GREGORIAN
METHOD:PUBLISH
X-ORIGINAL-URL:https://sanbornpto.com
X-WR-CALDESC:Events for Sanborn PTO
REFRESH-INTERVAL;VALUE=DURATION:PT1H
X-Robots-Tag:noindex
X-PUBLISHED-TTL:PT1H
BEGIN:VTIMEZONE
TZID:America/New_York
BEGIN:DAYLIGHT
TZOFFSETFROM:-0500
TZOFFSETTO:-0400
TZNAME:EDT
DTSTART:20240310T070000
END:DAYLIGHT
BEGIN:STANDARD
TZOFFSETFROM:-0400
TZOFFSETTO:-0500
TZNAME:EST
DTSTART:20241103T060000
END:STANDARD
BEGIN:DAYLIGHT
TZOFFSETFROM:-0500
TZOFFSETTO:-0400
TZNAME:EDT
DTSTART:20250309T070000
END:DAYLIGHT
BEGIN:STANDARD
TZOFFSETFROM:-0400
TZOFFSETTO:-0500
TZNAME:EST
DTSTART:20251102T060000
END:STANDARD
BEGIN:DAYLIGHT
TZOFFSETFROM:-0500
TZOFFSETTO:-0400
TZNAME:EDT
DTSTART:20260308T070000
END:DAYLIGHT
BEGIN:STANDARD
TZOFFSETFROM:-0400
TZOFFSETTO:-0500
TZNAME:EST
DTSTART:20261101T060000
END:STANDARD
BEGIN:DAYLIGHT
TZOFFSETFROM:-0500
TZOFFSETTO:-0400
TZNAME:EDT
DTSTART:20270314T070000
END:DAYLIGHT
BEGIN:STANDARD
TZOFFSETFROM:-0400
TZOFFSETTO:-0500
TZNAME:EST
DTSTART:20271107T060000
END:STANDARD
END:VTIMEZONE
BEGIN:VEVENT
DTSTART;TZID=America/New_York:20251201T080000
DTEND;TZID=America/New_York:20251201T084500
DTSTAMP:20260423T144517
CREATED:20250916T153609Z
LAST-MODIFIED:20251201T132723Z
UID:33651-1764576000-1764578700@sanbornpto.com
SUMMARY:Chess Academy
DESCRIPTION:
URL:https://sanbornpto.com/event/chess-academy-16/
END:VEVENT
BEGIN:VEVENT
DTSTART;TZID=America/New_York:20251202T180000
DTEND;TZID=America/New_York:20251202T200000
DTSTAMP:20260423T144517
CREATED:20250807T194829Z
LAST-MODIFIED:20251203T003333Z
UID:32055-1764698400-1764705600@sanbornpto.com
SUMMARY:🛍️ Learning Express Shopping Night
DESCRIPTION:Get some holiday shopping while giving back to the PTO! A percentage of all sales this evening will be donated back to the PTO.
URL:https://sanbornpto.com/event/%f0%9f%9b%8d%ef%b8%8f-learning-express-shopping-night/
END:VEVENT
BEGIN:VEVENT
DTSTART;TZID=America/New_York:20251203T121500
DTEND;TZID=America/New_York:20251203T121500
DTSTAMP:20260423T144517
CREATED:20250807T194829Z
LAST-MODIFIED:20251203T170852Z
UID:32056-1764764100-1764764100@sanbornpto.com
SUMMARY:Early Release
DESCRIPTION:
URL:https://sanbornpto.com/event/early-release-2/
END:VEVENT
BEGIN:VEVENT
DTSTART;TZID=America/New_York:20251203T180000
DTEND;TZID=America/New_York:20251203T190000
DTSTAMP:20260423T144517
CREATED:20251108T151836Z
LAST-MODIFIED:20251203T234319Z
UID:35620-1764784800-1764788400@sanbornpto.com
SUMMARY:Parent Social
DESCRIPTION:Come join us on December 3rd for a Wreath Making Class at Konjoian’s on December 3rd from 6:00-7:00 pm. Space is limited so sign up early! We can’t wait to see you there!
URL:https://sanbornpto.com/event/parent-social/
LOCATION:Konjoian’s Greenhouses\, 225 Chandler Rd\, Andover\, MA\, United States
END:VEVENT
BEGIN:VEVENT
DTSTART;VALUE=DATE:20251205
DTEND;VALUE=DATE:20251206
DTSTAMP:20260423T144517
CREATED:20251120T214217Z
LAST-MODIFIED:20251205T234346Z
UID:36049-1764892800-1764979199@sanbornpto.com
SUMMARY:👕 Sanborn Spirit Day 👕
DESCRIPTION:Wear your favorite Sanborn or Blue gear!
URL:https://sanbornpto.com/event/%f0%9f%91%95-sanborn-spirit-day-%f0%9f%91%95/
END:VEVENT
BEGIN:VEVENT
DTSTART;TZID=America/New_York:20251208T190000
DTEND;TZID=America/New_York:20251208T200000
DTSTAMP:20260423T144517
CREATED:20251202T150533Z
LAST-MODIFIED:20251209T002259Z
UID:36507-1765220400-1765224000@sanbornpto.com
SUMMARY:Sanborn  Bancroft Frozen Touch Base
DESCRIPTION:Join with Google Meet: https://meet.google.com/hwj-zzcg-hkw\nLearn more about Meet at: https://support.google.com/a/users/answer/9282720
URL:https://sanbornpto.com/event/sanborn-bancroft-frozen-touch-base/
ORGANIZER;CN="cristina.addesa@gmail.com":MAILTO:cristina.addesa@gmail.com
END:VEVENT
BEGIN:VEVENT
DTSTART;TZID=America/New_York:20251210T110500
DTEND;TZID=America/New_York:20251210T115000
DTSTAMP:20260423T144517
CREATED:20251126T231842Z
LAST-MODIFIED:20251210T164027Z
UID:36306-1765364700-1765367400@sanbornpto.com
SUMMARY:3rd Grade String Parent Performance
DESCRIPTION:
URL:https://sanbornpto.com/event/3rd-grade-string-parent-performance/
LOCATION:Library
END:VEVENT
BEGIN:VEVENT
DTSTART;TZID=America/New_York:20251212T153000
DTEND;TZID=America/New_York:20251212T183000
DTSTAMP:20260423T144517
CREATED:20251121T011853Z
LAST-MODIFIED:20251212T230455Z
UID:36073-1765553400-1765564200@sanbornpto.com
SUMMARY:Winter Wonderland Fun Fest
DESCRIPTION:Students will spend the afternoon participating in an activity of their choosing followed by a screening of Happy Feet & pizza dinner \n$50 per student or $100 per family maximum \nAll proceeds will go directly to the Colleen Ritzer Memorial Playground
URL:https://sanbornpto.com/event/winter-wonderland-fun-fest/
END:VEVENT
BEGIN:VEVENT
DTSTART;TZID=America/New_York:20251218T200000
DTEND;TZID=America/New_York:20251218T203000
DTSTAMP:20260423T144517
CREATED:20251207T211948Z
LAST-MODIFIED:20251219T005453Z
UID:36687-1766088000-1766089800@sanbornpto.com
SUMMARY:Winter Explorations Registration Opens
DESCRIPTION:https://lp.constantcontactpages.com/cu/FVCqGC6/2026WinterExplorations
URL:https://sanbornpto.com/event/winter-explorations-registration-opens-2/
END:VEVENT
BEGIN:VEVENT
DTSTART;VALUE=DATE:20251224
DTEND;VALUE=DATE:20260103
DTSTAMP:20260423T144517
CREATED:20250807T194829Z
LAST-MODIFIED:20251220T045031Z
UID:32057-1766534400-1767398399@sanbornpto.com
SUMMARY:Sanborn Closed - Winter Break
DESCRIPTION:
URL:https://sanbornpto.com/event/sanborn-closed-winter-break/
END:VEVENT
END:VCALENDAR